BEGIN:VCALENDAR
VERSION:2.0
PRODID:-//Plone.org//NONSGML plone.app.event//EN
X-WR-TIMEZONE:Europe/Zurich
BEGIN:VEVENT
SUMMARY:Check dein Wissen (CDW S3)
DTSTART;VALUE=DATE:20210419
DTEND;VALUE=DATE:20210508
DTSTAMP;VALUE=DATE-TIME:20260421T110940Z
UID:040000008200E00074C5B7101A82E00800000000B0316A168A45D60100000000000000
 00100000003083D07E6DC1A848BF696CF850F02868
CREATED;VALUE=DATE-TIME:20200706T062915Z
LAST-MODIFIED;VALUE=DATE-TIME:20200706T064408Z
URL:https://www.sek-pratteln.ch/events/oeffentlich/check-dein-wissen-cdw-s
 3-1
END:VEVENT
END:VCALENDAR
