BEGIN:VCALENDAR
VERSION:2.0
PRODID:-//Plone.org//NONSGML plone.app.event//EN
X-WR-TIMEZONE:Europe/Zurich
BEGIN:VEVENT
SUMMARY:Check dein Wissen (CDW S2)
DTSTART;VALUE=DATE:20210301
DTEND;VALUE=DATE:20210327
DTSTAMP;VALUE=DATE-TIME:20260421T110923Z
UID:040000008200E00074C5B7101A82E008000000000062808F8945D60100000000000000
 0010000000BCCFD4788CCFA749B0A92332AD9E1085
CREATED;VALUE=DATE-TIME:20200706T062917Z
LAST-MODIFIED;VALUE=DATE-TIME:20200706T064408Z
URL:https://www.sek-pratteln.ch/events/oeffentlich/check-dein-wissen-cdw-s
 2
END:VEVENT
END:VCALENDAR
