BEGIN:VCALENDAR
VERSION:2.0
PRODID:-//Plone.org//NONSGML plone.app.event//EN
X-WR-TIMEZONE:Europe/Zurich
BEGIN:VEVENT
SUMMARY:CDW S3 schriftlich (F)
DTSTART;VALUE=DATE:20220324
DTEND;VALUE=DATE:20220326
DTSTAMP;VALUE=DATE-TIME:20260419T153914Z
UID:040000008200E00074C5B7101A82E008000000000000B35EA263D70100000000000000
 0010000000FE35A858FF229C45AFE0C34C585AD790
CREATED;VALUE=DATE-TIME:20210701T072624Z
LAST-MODIFIED;VALUE=DATE-TIME:20210701T072754Z
URL:https://www.sek-pratteln.ch/events/oeffentlich/cdw-s3-schriftlich-f
END:VEVENT
END:VCALENDAR
