BEGIN:VCALENDAR
VERSION:2.0
PRODID:-//Plone.org//NONSGML plone.app.event//EN
X-WR-TIMEZONE:Europe/Zurich
BEGIN:VEVENT
SUMMARY:CDW S3: schriftlich (F\, D)
DTSTART;VALUE=DATE:20240321
DTEND;VALUE=DATE:20240322
DTSTAMP;VALUE=DATE-TIME:20260421T105139Z
UID:d4b0b2f7dea747578da281a07571e44f@82.220.37.140:8081
CREATED;VALUE=DATE-TIME:20230815T114756Z
LAST-MODIFIED;VALUE=DATE-TIME:20230815T114802Z
URL:https://www.sek-pratteln.ch/events/oeffentlich/cdw-s3-schriftlich-f-d-
 1
END:VEVENT
END:VCALENDAR
