BEGIN:VCALENDAR
VERSION:2.0
PRODID:-//Plone.org//NONSGML plone.app.event//EN
X-WR-TIMEZONE:Europe/Zurich
BEGIN:VEVENT
SUMMARY:CDW S3: schriftlich (E)
DTSTART;VALUE=DATE:20230323
DTEND;VALUE=DATE:20230325
DTSTAMP;VALUE=DATE-TIME:20260421T110613Z
UID:040000008200E00074C5B7101A82E00800000000D05E04393683D80100000000000000
 00100000003E764AF5BFA4E64EB106E6B6F590D8AB
CREATED;VALUE=DATE-TIME:20220627T163422Z
DESCRIPTION: \n
LAST-MODIFIED;VALUE=DATE-TIME:20220627T165927Z
URL:https://www.sek-pratteln.ch/events/oeffentlich/cdw-s3-schriftlich-e-1
END:VEVENT
END:VCALENDAR
