BEGIN:VCALENDAR
VERSION:2.0
PRODID:-//Plone.org//NONSGML plone.app.event//EN
X-WR-TIMEZONE:Europe/Zurich
BEGIN:VEVENT
SUMMARY:CDW S3: schriftlich (D)
DTSTART;VALUE=DATE:20210322
DTEND;VALUE=DATE:20210324
DTSTAMP;VALUE=DATE-TIME:20260420T172613Z
UID:040000008200E00074C5B7101A82E0080000000030D5FC971B4AD60100000000000000
 00100000006A3575919E422744BA85D11DF975624B
CREATED;VALUE=DATE-TIME:20200706T062834Z
LAST-MODIFIED;VALUE=DATE-TIME:20200706T064404Z
URL:https://www.sek-pratteln.ch/events/oeffentlich/cdw-s3-schriftlich-d
END:VEVENT
END:VCALENDAR
