BEGIN:VCALENDAR
VERSION:2.0
PRODID:-//Plone.org//NONSGML plone.app.event//EN
X-WR-TIMEZONE:Europe/Zurich
BEGIN:VEVENT
SUMMARY:CDW S3: schriftlich (D)
DTSTART;VALUE=DATE:20230320
DTEND;VALUE=DATE:20230322
DTSTAMP;VALUE=DATE-TIME:20260421T110700Z
UID:040000008200E00074C5B7101A82E0080000000030E54DFF3583D80100000000000000
 0010000000F4573CF1D6F1A9448011E256A932373F
CREATED;VALUE=DATE-TIME:20220627T163422Z
DESCRIPTION: \n
LAST-MODIFIED;VALUE=DATE-TIME:20220627T165927Z
URL:https://www.sek-pratteln.ch/events/oeffentlich/cdw-s3-schriftlich-d-2
END:VEVENT
END:VCALENDAR
