BEGIN:VCALENDAR
VERSION:2.0
PRODID:-//Plone.org//NONSGML plone.app.event//EN
X-WR-TIMEZONE:Europe/Zurich
BEGIN:VEVENT
SUMMARY:CDW S3 schriftlich (D)
DTSTART;VALUE=DATE:20220321
DTEND;VALUE=DATE:20220323
DTSTAMP;VALUE=DATE-TIME:20260421T110925Z
UID:040000008200E00074C5B7101A82E0080000000000377A24A263D70100000000000000
 0010000000A6B66FDA47DCBD41B747833CBFDE9CFC
CREATED;VALUE=DATE-TIME:20210701T072623Z
LAST-MODIFIED;VALUE=DATE-TIME:20210701T072754Z
URL:https://www.sek-pratteln.ch/events/oeffentlich/cdw-s3-schriftlich-d-1
END:VEVENT
END:VCALENDAR
