BEGIN:VCALENDAR
VERSION:2.0
PRODID:-//Plone.org//NONSGML plone.app.event//EN
X-WR-TIMEZONE:Europe/Zurich
BEGIN:VEVENT
SUMMARY:CDW S3 Durchführung Schreibanlässe Deutsch (zwingend am Morgen)
DTSTART;TZID=Europe/Zurich;VALUE=DATE-TIME:20260317T072500
DTEND;TZID=Europe/Zurich;VALUE=DATE-TIME:20260317T114500
DTSTAMP;VALUE=DATE-TIME:20260421T111319Z
UID:040000008200E00074C5B7101A82E00800000000907DE97529D2DB0100000000000000
 0010000000C4E01E93E5BF114D8AE5F8A6110D36F1
CREATED;VALUE=DATE-TIME:20250611T084845Z
LAST-MODIFIED;VALUE=DATE-TIME:20250611T085836Z
URL:https://www.sek-pratteln.ch/events/oeffentlich/cdw-s3-durchfuehrung-sc
 hreibanlaesse-deutsch-zwingend-am-morgen
END:VEVENT
BEGIN:VTIMEZONE
TZID:Europe/Zurich
X-LIC-LOCATION:Europe/Zurich
BEGIN:STANDARD
DTSTART;VALUE=DATE-TIME:20251026T020000
TZNAME:CET
TZOFFSETFROM:+0200
TZOFFSETTO:+0100
END:STANDARD
END:VTIMEZONE
END:VCALENDAR
