BEGIN:VCALENDAR
VERSION:2.0
PRODID:-//Plone.org//NONSGML plone.app.event//EN
X-WR-TIMEZONE:Europe/Zurich
BEGIN:VEVENT
SUMMARY:CDW S3 (Check dein Wissen)
DTSTART;VALUE=DATE:20230417
DTEND;VALUE=DATE:20230421
DTSTAMP;VALUE=DATE-TIME:20260421T105037Z
UID:040000008200E00074C5B7101A82E00800000000C0FFC83A1683D80100000000000000
 0010000000B6CEFC424173AA4EA65B9EE42CDC0485
CREATED;VALUE=DATE-TIME:20220627T163358Z
DESCRIPTION: \n
LAST-MODIFIED;VALUE=DATE-TIME:20220627T170019Z
URL:https://www.sek-pratteln.ch/events/oeffentlich/cdw-s3-check-dein-wisse
 n
END:VEVENT
END:VCALENDAR
