BEGIN:VCALENDAR
VERSION:2.0
PRODID:-//Plone.org//NONSGML plone.app.event//EN
X-WR-TIMEZONE:Europe/Zurich
BEGIN:VEVENT
SUMMARY:CDW S3 (Check dein Wissen)
DTSTART;VALUE=DATE:20230522
DTEND;VALUE=DATE:20230527
DTSTAMP;VALUE=DATE-TIME:20260421T110817Z
UID:040000008200E00074C5B7101A82E00800000000202D529C1683D80100000000000000
 00100000005463B2BC1CAAD44485DA83C0FF41BF69
CREATED;VALUE=DATE-TIME:20220627T163358Z
DESCRIPTION: \n
LAST-MODIFIED;VALUE=DATE-TIME:20220627T170019Z
URL:https://www.sek-pratteln.ch/events/oeffentlich/cdw-s3-check-dein-wisse
 n-2
END:VEVENT
END:VCALENDAR
