BEGIN:VCALENDAR
VERSION:2.0
PRODID:-//Plone.org//NONSGML plone.app.event//EN
X-WR-TIMEZONE:Europe/Zurich
BEGIN:VEVENT
SUMMARY:CDW S3 (Check dein Wissen)
DTSTART;VALUE=DATE:20230424
DTEND;VALUE=DATE:20230513
DTSTAMP;VALUE=DATE-TIME:20260421T110940Z
UID:040000008200E00074C5B7101A82E00800000000E065DB601683D80100000000000000
 0010000000AEA82E6F98221748AF2AA0635EB1060C
CREATED;VALUE=DATE-TIME:20220627T163358Z
DESCRIPTION: \n
LAST-MODIFIED;VALUE=DATE-TIME:20220627T170019Z
URL:https://www.sek-pratteln.ch/events/oeffentlich/cdw-s3-check-dein-wisse
 n-1
END:VEVENT
END:VCALENDAR
