BEGIN:VCALENDAR
VERSION:2.0
PRODID:-//Plone.org//NONSGML plone.app.event//EN
X-WR-TIMEZONE:Europe/Zurich
BEGIN:VEVENT
SUMMARY:CDW S2 schriftlich (E)
DTSTART;VALUE=DATE:20210128
DTEND;VALUE=DATE:20210130
DTSTAMP;VALUE=DATE-TIME:20260421T110529Z
UID:040000008200E00074C5B7101A82E00800000000A0E940351A4AD60100000000000000
 0010000000BB5A43BE95F5214E8BC6FBC0AE8C3FB7
CREATED;VALUE=DATE-TIME:20200706T062840Z
LAST-MODIFIED;VALUE=DATE-TIME:20200706T064404Z
URL:https://www.sek-pratteln.ch/events/oeffentlich/cdw-s2-schriftlich-e
END:VEVENT
END:VCALENDAR
