BEGIN:VCALENDAR
VERSION:2.0
PRODID:-//Plone.org//NONSGML plone.app.event//EN
X-WR-TIMEZONE:Europe/Zurich
BEGIN:VEVENT
SUMMARY:CDW S2 schriftlich (E)
DTSTART;VALUE=DATE:20230126
DTEND;VALUE=DATE:20230128
DTSTAMP;VALUE=DATE-TIME:20260421T110548Z
UID:040000008200E00074C5B7101A82E00800000000002267F43383D80100000000000000
 0010000000B2AF40314A9CA34FB64C900C19073D4B
CREATED;VALUE=DATE-TIME:20220627T163417Z
DESCRIPTION: \n
LAST-MODIFIED;VALUE=DATE-TIME:20220627T165927Z
URL:https://www.sek-pratteln.ch/events/oeffentlich/cdw-s2-schriftlich-e-1
END:VEVENT
END:VCALENDAR
