BEGIN:VCALENDAR
VERSION:2.0
PRODID:-//Plone.org//NONSGML plone.app.event//EN
X-WR-TIMEZONE:Europe/Zurich
BEGIN:VEVENT
SUMMARY:CDW S2 schriftlich (D\, F)
DTSTART;VALUE=DATE:20240123
DTEND;VALUE=DATE:20240124
DTSTAMP;VALUE=DATE-TIME:20260421T110816Z
UID:040000008200E00074C5B7101A82E00800000000F05DD05935A4D90100000000000000
 00100000002E958DCC1C6ACF4F8E24148D8FC318DE
CREATED;VALUE=DATE-TIME:20230626T125600Z
DESCRIPTION:None
LAST-MODIFIED;VALUE=DATE-TIME:20230815T113411Z
URL:https://www.sek-pratteln.ch/events/oeffentlich/cdw-s2-schriftlich-d-f
END:VEVENT
END:VCALENDAR
