BEGIN:VCALENDAR
VERSION:2.0
PRODID:-//Plone.org//NONSGML plone.app.event//EN
X-WR-TIMEZONE:Europe/Zurich
BEGIN:VEVENT
SUMMARY:CDW S2 schriftlich (D)
DTSTART;VALUE=DATE:20230123
DTEND;VALUE=DATE:20230125
DTSTAMP;VALUE=DATE-TIME:20260421T110702Z
UID:040000008200E00074C5B7101A82E0080000000000411C943383D80100000000000000
 001000000074E7AF8A4077BC4E8E34DED26951DE47
CREATED;VALUE=DATE-TIME:20220627T163417Z
DESCRIPTION: \n
LAST-MODIFIED;VALUE=DATE-TIME:20220627T165927Z
URL:https://www.sek-pratteln.ch/events/oeffentlich/cdw-s2-schriftlich-d-2
END:VEVENT
END:VCALENDAR
