BEGIN:VCALENDAR
VERSION:2.0
PRODID:-//Plone.org//NONSGML plone.app.event//EN
X-WR-TIMEZONE:Europe/Zurich
BEGIN:VEVENT
SUMMARY:CDW S2 Durchführung Schreibanlässe Französisch (zwingend am Mor
 gen)
DTSTART;TZID=Europe/Zurich;VALUE=DATE-TIME:20260122T072500
DTEND;TZID=Europe/Zurich;VALUE=DATE-TIME:20260122T114500
DTSTAMP;VALUE=DATE-TIME:20260419T155259Z
UID:040000008200E00074C5B7101A82E00800000000704E014429D2DB0100000000000000
 0010000000F6472B8745C7DE449EB94FA43AD5A6BB
CREATED;VALUE=DATE-TIME:20250611T084845Z
LAST-MODIFIED;VALUE=DATE-TIME:20250611T085836Z
URL:https://www.sek-pratteln.ch/events/oeffentlich/cdw-s2-durchfuehrung-sc
 hreibanlaesse-franzoesisch-zwingend-am-morgen
END:VEVENT
BEGIN:VTIMEZONE
TZID:Europe/Zurich
X-LIC-LOCATION:Europe/Zurich
BEGIN:STANDARD
DTSTART;VALUE=DATE-TIME:20251026T020000
TZNAME:CET
TZOFFSETFROM:+0200
TZOFFSETTO:+0100
END:STANDARD
END:VTIMEZONE
END:VCALENDAR
