BEGIN:VCALENDAR
VERSION:2.0
PRODID:-//Plone.org//NONSGML plone.app.event//EN
X-WR-TIMEZONE:Europe/Zurich
BEGIN:VEVENT
SUMMARY:CDW S2 Durchführung Schreibanlässe Deutsch (zwingend am Morgen)
DTSTART;TZID=Europe/Zurich;VALUE=DATE-TIME:20260120T072500
DTEND;TZID=Europe/Zurich;VALUE=DATE-TIME:20260120T114500
DTSTAMP;VALUE=DATE-TIME:20260419T152108Z
UID:040000008200E00074C5B7101A82E0080000000090D5FD0E29D2DB0100000000000000
 0010000000AC0C725C0773DB45AED4BD5F1846E48E
CREATED;VALUE=DATE-TIME:20250611T084846Z
LAST-MODIFIED;VALUE=DATE-TIME:20250611T085836Z
URL:https://www.sek-pratteln.ch/events/oeffentlich/cdw-s2-durchfuehrung-sc
 hreibanlaesse-deutsch-zwingend-am-morgen
END:VEVENT
BEGIN:VTIMEZONE
TZID:Europe/Zurich
X-LIC-LOCATION:Europe/Zurich
BEGIN:STANDARD
DTSTART;VALUE=DATE-TIME:20251026T020000
TZNAME:CET
TZOFFSETFROM:+0200
TZOFFSETTO:+0100
END:STANDARD
END:VTIMEZONE
END:VCALENDAR
