BEGIN:VCALENDAR
VERSION:2.0
PRODID:-//Plone.org//NONSGML plone.app.event//EN
X-WR-TIMEZONE:Europe/Zurich
BEGIN:VEVENT
SUMMARY:CDW S2 (Check dein Wissen)
DTSTART;VALUE=DATE:20230306
DTEND;VALUE=DATE:20230401
DTSTAMP;VALUE=DATE-TIME:20260421T110923Z
UID:040000008200E00074C5B7101A82E0080000000040E647CE1583D80100000000000000
 0010000000C27CC99605E3B149A5C8E26D3D1768C0
CREATED;VALUE=DATE-TIME:20220627T163356Z
DESCRIPTION: \n
LAST-MODIFIED;VALUE=DATE-TIME:20220627T170019Z
URL:https://www.sek-pratteln.ch/events/oeffentlich/cdw-s2-check-dein-wisse
 n
END:VEVENT
END:VCALENDAR
