BEGIN:VCALENDAR
VERSION:2.0
PRODID:-//Plone.org//NONSGML plone.app.event//EN
X-WR-TIMEZONE:Europe/Zurich
BEGIN:VEVENT
SUMMARY:BO Elternabend BIZ 2Eb 20:00h
DTSTART;TZID=Europe/Zurich;VALUE=DATE-TIME:20241118T200000
DTEND;TZID=Europe/Zurich;VALUE=DATE-TIME:20241118T220000
DTSTAMP;VALUE=DATE-TIME:20260421T111005Z
UID:040000008200E00074C5B7101A82E0080000000050441F0F3AC2DA0100000000000000
 0010000000880A20AC0E90B946BF1FDBF7FBF42267
CREATED;VALUE=DATE-TIME:20240627T145111Z
LAST-MODIFIED;VALUE=DATE-TIME:20240627T145510Z
URL:https://www.sek-pratteln.ch/events/oeffentlich/bo-elternabend-biz-2eb-
 20-00h
END:VEVENT
BEGIN:VTIMEZONE
TZID:Europe/Zurich
X-LIC-LOCATION:Europe/Zurich
BEGIN:STANDARD
DTSTART;VALUE=DATE-TIME:20241027T020000
TZNAME:CET
TZOFFSETFROM:+0200
TZOFFSETTO:+0100
END:STANDARD
END:VTIMEZONE
END:VCALENDAR
