BEGIN:VCALENDAR
VERSION:2.0
PRODID:-//Plone.org//NONSGML plone.app.event//EN
X-WR-TIMEZONE:Europe/Zurich
BEGIN:VEVENT
SUMMARY:BO Elternabend BIZ 2Ab 20:00h
DTSTART;TZID=Europe/Zurich;VALUE=DATE-TIME:20241209T200000
DTEND;TZID=Europe/Zurich;VALUE=DATE-TIME:20241209T220000
DTSTAMP;VALUE=DATE-TIME:20260421T111115Z
UID:040000008200E00074C5B7101A82E0080000000020FA6F653AC2DA0100000000000000
 00100000001190FAAC79B2284E9D21E7B19F681B9D
CREATED;VALUE=DATE-TIME:20240627T145110Z
LAST-MODIFIED;VALUE=DATE-TIME:20240627T145510Z
URL:https://www.sek-pratteln.ch/events/oeffentlich/bo-elternabend-biz-2ab-
 20-00h
END:VEVENT
BEGIN:VTIMEZONE
TZID:Europe/Zurich
X-LIC-LOCATION:Europe/Zurich
BEGIN:STANDARD
DTSTART;VALUE=DATE-TIME:20241027T020000
TZNAME:CET
TZOFFSETFROM:+0200
TZOFFSETTO:+0100
END:STANDARD
END:VTIMEZONE
END:VCALENDAR
