BEGIN:VCALENDAR
VERSION:2.0
PRODID:-//Plone.org//NONSGML plone.app.event//EN
X-WR-TIMEZONE:Europe/Zurich
BEGIN:VEVENT
SUMMARY:BO Elternabend BIZ 2Aa 18:00h
DTSTART;TZID=Europe/Zurich;VALUE=DATE-TIME:20250116T180000
DTEND;TZID=Europe/Zurich;VALUE=DATE-TIME:20250116T200000
DTSTAMP;VALUE=DATE-TIME:20260421T111006Z
UID:040000008200E00074C5B7101A82E00800000000107617D43AC2DA0100000000000000
 00100000003D3E58F01DE1744990C129D5DBF74846
CREATED;VALUE=DATE-TIME:20240627T145108Z
LAST-MODIFIED;VALUE=DATE-TIME:20240627T145510Z
URL:https://www.sek-pratteln.ch/events/oeffentlich/bo-elternabend-biz-2aa-
 18-00h
END:VEVENT
BEGIN:VTIMEZONE
TZID:Europe/Zurich
X-LIC-LOCATION:Europe/Zurich
BEGIN:STANDARD
DTSTART;VALUE=DATE-TIME:20241027T020000
TZNAME:CET
TZOFFSETFROM:+0200
TZOFFSETTO:+0100
END:STANDARD
END:VTIMEZONE
END:VCALENDAR
