BEGIN:VCALENDAR
VERSION:2.0
PRODID:-//Plone.org//NONSGML plone.app.event//EN
X-WR-TIMEZONE:Europe/Zurich
BEGIN:VEVENT
SUMMARY:BO-Elternabend 2Ac 20:00h LBZ
DTSTART;TZID=Europe/Zurich;VALUE=DATE-TIME:20251210T200000
DTEND;TZID=Europe/Zurich;VALUE=DATE-TIME:20251210T220000
DTSTAMP;VALUE=DATE-TIME:20260419T214048Z
UID:040000008200E00074C5B7101A82E00800000000502EEC0224D2DB0100000000000000
 001000000094BA920CF934194886758C4C998267E6
CREATED;VALUE=DATE-TIME:20250611T084854Z
LAST-MODIFIED;VALUE=DATE-TIME:20250611T085810Z
URL:https://www.sek-pratteln.ch/events/oeffentlich/bo-elternabend-2ac-20-0
 0h-lbz
END:VEVENT
BEGIN:VTIMEZONE
TZID:Europe/Zurich
X-LIC-LOCATION:Europe/Zurich
BEGIN:STANDARD
DTSTART;VALUE=DATE-TIME:20251026T020000
TZNAME:CET
TZOFFSETFROM:+0200
TZOFFSETTO:+0100
END:STANDARD
END:VTIMEZONE
END:VCALENDAR
