BEGIN:VCALENDAR
VERSION:2.0
PRODID:-//Plone.org//NONSGML plone.app.event//EN
X-WR-TIMEZONE:Europe/Zurich
BEGIN:VEVENT
SUMMARY:BO-Elternabend 2Aa 18:00h LBZ
DTSTART;TZID=Europe/Zurich;VALUE=DATE-TIME:20260112T180000
DTEND;TZID=Europe/Zurich;VALUE=DATE-TIME:20260112T200000
DTSTAMP;VALUE=DATE-TIME:20260420T164148Z
UID:040000008200E00074C5B7101A82E008000000009064372324D2DB0100000000000000
 0010000000D23EA56E5F331C4DB4F6E355E67557A3
CREATED;VALUE=DATE-TIME:20250611T084854Z
LAST-MODIFIED;VALUE=DATE-TIME:20250611T085809Z
URL:https://www.sek-pratteln.ch/events/oeffentlich/bo-elternabend-2aa-18-0
 0h-lbz
END:VEVENT
BEGIN:VTIMEZONE
TZID:Europe/Zurich
X-LIC-LOCATION:Europe/Zurich
BEGIN:STANDARD
DTSTART;VALUE=DATE-TIME:20251026T020000
TZNAME:CET
TZOFFSETFROM:+0200
TZOFFSETTO:+0100
END:STANDARD
END:VTIMEZONE
END:VCALENDAR
