BEGIN:VCALENDAR
VERSION:2.0
PRODID:-//Plone.org//NONSGML plone.app.event//EN
X-WR-TIMEZONE:Europe/Zurich
BEGIN:VEVENT
SUMMARY:BIZ-Elternabend 2Ab\, 18:00h
DTSTART;TZID=Europe/Zurich;VALUE=DATE-TIME:20231211T180000
DTEND;TZID=Europe/Zurich;VALUE=DATE-TIME:20231211T200000
DTSTAMP;VALUE=DATE-TIME:20260421T110939Z
UID:f9e54315a7d64ad78712340ff9bceef5@82.220.37.140:8081
CREATED;VALUE=DATE-TIME:20230815T090446Z
LAST-MODIFIED;VALUE=DATE-TIME:20230815T090453Z
URL:https://www.sek-pratteln.ch/events/oeffentlich/biz-elternabend-2ab-18-
 00h
END:VEVENT
BEGIN:VTIMEZONE
TZID:Europe/Zurich
X-LIC-LOCATION:Europe/Zurich
BEGIN:STANDARD
DTSTART;VALUE=DATE-TIME:20231029T020000
TZNAME:CET
TZOFFSETFROM:+0200
TZOFFSETTO:+0100
END:STANDARD
END:VTIMEZONE
END:VCALENDAR
