BEGIN:VCALENDAR
VERSION:2.0
PRODID:-//Plone.org//NONSGML plone.app.event//EN
X-WR-TIMEZONE:Europe/Zurich
BEGIN:VEVENT
SUMMARY:Besuchstage
DTSTART;VALUE=DATE:20231019
DTEND;VALUE=DATE:20231021
DTSTAMP;VALUE=DATE-TIME:20260421T110336Z
UID:040000008200E00074C5B7101A82E00800000000D0837AAD40A4D90100000000000000
 0010000000730981B64B9BC54C8931762A4E12D524
CREATED;VALUE=DATE-TIME:20230626T125550Z
LAST-MODIFIED;VALUE=DATE-TIME:20230626T125923Z
URL:https://www.sek-pratteln.ch/events/oeffentlich/besuchstage-4
END:VEVENT
END:VCALENDAR
