BEGIN:VCALENDAR
VERSION:2.0
PRODID:-//Plone.org//NONSGML plone.app.event//EN
X-WR-TIMEZONE:Europe/Zurich
BEGIN:VEVENT
SUMMARY:Besuchstage
DTSTART;VALUE=DATE:20221020
DTEND;VALUE=DATE:20221022
DTSTAMP;VALUE=DATE-TIME:20260421T115217Z
UID:040000008200E00074C5B7101A82E00800000000E0AF78992D83D80100000000000000
 00100000004A2526BFB0BE67438F5D5D2AB815D535
CREATED;VALUE=DATE-TIME:20220627T163407Z
DESCRIPTION: \n
LAST-MODIFIED;VALUE=DATE-TIME:20220627T165940Z
URL:https://www.sek-pratteln.ch/events/oeffentlich/besuchstage-3
END:VEVENT
END:VCALENDAR
