BEGIN:VCALENDAR
VERSION:2.0
PRODID:-//Plone.org//NONSGML plone.app.event//EN
X-WR-TIMEZONE:Europe/Zurich
BEGIN:VEVENT
SUMMARY:Besuchstag
DTSTART;VALUE=DATE:20180921
DTEND;VALUE=DATE:20180922
DTSTAMP;VALUE=DATE-TIME:20260419T151359Z
UID:040000008200E00074C5B7101A82E00800000000109B9059D307D40100000000000000
 00100000007DAB5B269F246F4F9CB37E4E9695C144
CREATED;VALUE=DATE-TIME:20180629T060601Z
DESCRIPTION:\n\n
LAST-MODIFIED;VALUE=DATE-TIME:20200706T064354Z
URL:https://www.sek-pratteln.ch/events/oeffentlich/besuchstag
END:VEVENT
END:VCALENDAR
