BEGIN:VCALENDAR
VERSION:2.0
PRODID:-//Plone.org//NONSGML plone.app.event//EN
X-WR-TIMEZONE:Europe/Zurich
BEGIN:VEVENT
SUMMARY:Besuchstag Schulrat
DTSTART;TZID=Europe/Zurich;VALUE=DATE-TIME:20161209T082000
DTEND;TZID=Europe/Zurich;VALUE=DATE-TIME:20161209T151500
DTSTAMP;VALUE=DATE-TIME:20260421T110609Z
UID:040000008200E00074C5B7101A82E0080000000020AF700343D8D10100000000000000
 0010000000800B0353B7291E408BE9871F6A00F5F8
CREATED;VALUE=DATE-TIME:20160712T121600Z
LAST-MODIFIED;VALUE=DATE-TIME:20200706T064347Z
URL:https://www.sek-pratteln.ch/events/oeffentlich/besuchstag-schulrat
END:VEVENT
BEGIN:VTIMEZONE
TZID:Europe/Zurich
X-LIC-LOCATION:Europe/Zurich
BEGIN:STANDARD
DTSTART;VALUE=DATE-TIME:20161030T020000
TZNAME:CET
TZOFFSETFROM:+0200
TZOFFSETTO:+0100
END:STANDARD
END:VTIMEZONE
END:VCALENDAR
