BEGIN:VCALENDAR
VERSION:2.0
PRODID:-//Plone.org//NONSGML plone.app.event//EN
X-WR-TIMEZONE:Europe/Zurich
BEGIN:VEVENT
SUMMARY:Besuchstag Schulrat
DTSTART;TZID=Europe/Zurich;VALUE=DATE-TIME:20221103T073000
DTEND;TZID=Europe/Zurich;VALUE=DATE-TIME:20221103T120000
DTSTAMP;VALUE=DATE-TIME:20260421T110708Z
UID:040000008200E00074C5B7101A82E0080000000050B7BEEF2D83D80100000000000000
 00100000001423B6DB3F40C9409AC8E303A84770A8
CREATED;VALUE=DATE-TIME:20220627T163408Z
DESCRIPTION: \n
LAST-MODIFIED;VALUE=DATE-TIME:20220627T165940Z
URL:https://www.sek-pratteln.ch/events/oeffentlich/besuchstag-schulrat-3
END:VEVENT
BEGIN:VTIMEZONE
TZID:Europe/Zurich
X-LIC-LOCATION:Europe/Zurich
BEGIN:STANDARD
DTSTART;VALUE=DATE-TIME:20221030T020000
TZNAME:CET
TZOFFSETFROM:+0200
TZOFFSETTO:+0100
END:STANDARD
END:VTIMEZONE
END:VCALENDAR
