BEGIN:VCALENDAR
VERSION:2.0
PRODID:-//Plone.org//NONSGML plone.app.event//EN
X-WR-TIMEZONE:Europe/Zurich
BEGIN:VEVENT
SUMMARY:Abgesagt: Besuchstag Schulrat
DTSTART;VALUE=DATE:20201029
DTEND;VALUE=DATE:20201030
DTSTAMP;VALUE=DATE-TIME:20260421T110700Z
UID:040000008200E00074C5B7101A82E00800000000B0D7BD65144AD60100000000000000
 0010000000B15FC41D7975774AAD3B3C7EC6AC0498
CREATED;VALUE=DATE-TIME:20200706T062851Z
DESCRIPTION:None
LAST-MODIFIED;VALUE=DATE-TIME:20201023T073937Z
URL:https://www.sek-pratteln.ch/events/oeffentlich/besuchstag-schulrat-2
END:VEVENT
END:VCALENDAR
