BEGIN:VCALENDAR
VERSION:2.0
PRODID:-//Plone.org//NONSGML plone.app.event//EN
X-WR-TIMEZONE:Europe/Zurich
BEGIN:VEVENT
SUMMARY:Besuchstag Schulrat
DTSTART;VALUE=DATE:20171117
DTEND;VALUE=DATE:20171118
DTSTAMP;VALUE=DATE-TIME:20260420T065546Z
UID:040000008200E00074C5B7101A82E00800000000502EC080ECE8D20100000000000000
 00100000007D1F757D31B7E748859480B91B14D455
CREATED;VALUE=DATE-TIME:20170623T094911Z
LAST-MODIFIED;VALUE=DATE-TIME:20200706T064350Z
URL:https://www.sek-pratteln.ch/events/oeffentlich/besuchstag-schulrat-1
END:VEVENT
END:VCALENDAR
