BEGIN:VCALENDAR
VERSION:2.0
PRODID:-//Plone.org//NONSGML plone.app.event//EN
X-WR-TIMEZONE:Europe/Zurich
BEGIN:VEVENT
SUMMARY:Besuchstag für Eltern
DTSTART;VALUE=DATE:20171018
DTEND;VALUE=DATE:20171019
DTSTAMP;VALUE=DATE-TIME:20260420T223553Z
UID:040000008200E00074C5B7101A82E0080000000000849321EBE8D20100000000000000
 0010000000A01B63F83170704DAD82DB5E0F7B8C25
CREATED;VALUE=DATE-TIME:20170623T094907Z
DESCRIPTION:An der Sekundarschule Pratteln finden am 18. Oktober 2017 ein 
 Schulbesuchstag für alle Klassen statt. Gerne laden wir Sie herzlich dazu
  ein.
LAST-MODIFIED;VALUE=DATE-TIME:20200706T064349Z
URL:https://www.sek-pratteln.ch/events/oeffentlich/besuchstag-fuer-eltern
END:VEVENT
END:VCALENDAR
