BEGIN:VCALENDAR
VERSION:2.0
PRODID:-//Plone.org//NONSGML plone.app.event//EN
X-WR-TIMEZONE:Europe/Zurich
BEGIN:VEVENT
SUMMARY:Besuchstag für Eltern
DTSTART;VALUE=DATE:20180316
DTEND;VALUE=DATE:20180317
DTSTAMP;VALUE=DATE-TIME:20260421T111004Z
UID:040000008200E00074C5B7101A82E00800000000C0EB12BDEEE8D20100000000000000
 0010000000C880032C8151224D8F222A941A31027B
CREATED;VALUE=DATE-TIME:20170623T094917Z
LAST-MODIFIED;VALUE=DATE-TIME:20200706T064350Z
URL:https://www.sek-pratteln.ch/events/oeffentlich/besuchstag-fuer-eltern-
 1
END:VEVENT
END:VCALENDAR
