BEGIN:VCALENDAR
VERSION:2.0
PRODID:-//Plone.org//NONSGML plone.app.event//EN
X-WR-TIMEZONE:Europe/Zurich
BEGIN:VEVENT
SUMMARY:Besuchstag Eltern
DTSTART;VALUE=DATE:20251023
DTEND;VALUE=DATE:20251025
DTSTAMP;VALUE=DATE-TIME:20260421T110435Z
UID:040000008200E00074C5B7101A82E00800000000D029E8261FD2DB0100000000000000
 0010000000FA7C2DCB43B1814DAEF392E9D62226B4
CREATED;VALUE=DATE-TIME:20250611T084907Z
LAST-MODIFIED;VALUE=DATE-TIME:20250611T085728Z
URL:https://www.sek-pratteln.ch/events/oeffentlich/besuchstag-eltern
END:VEVENT
END:VCALENDAR
