BEGIN:VCALENDAR
VERSION:2.0
PRODID:-//Plone.org//NONSGML plone.app.event//EN
X-WR-TIMEZONE:Europe/Zurich
BEGIN:VEVENT
SUMMARY:Besuchstag / Ausstellung Projektarbeiten
DTSTART;VALUE=DATE:20190611
DTEND;VALUE=DATE:20190612
DTSTAMP;VALUE=DATE-TIME:20260421T105627Z
UID:040000008200E00074C5B7101A82E00800000000503E710DD907D40100000000000000
 0010000000BE1E8F016FB63F41947A2901531C3802
CREATED;VALUE=DATE-TIME:20180629T060540Z
DESCRIPTION:\n\n
LAST-MODIFIED;VALUE=DATE-TIME:20200706T064353Z
URL:https://www.sek-pratteln.ch/events/oeffentlich/besuchstag-ausstellung-
 projektarbeiten
END:VEVENT
END:VCALENDAR
