BEGIN:VCALENDAR
VERSION:2.0
PRODID:-//Plone.org//NONSGML plone.app.event//EN
X-WR-TIMEZONE:Europe/Zurich
BEGIN:VEVENT
SUMMARY:Besuchstag
DTSTART;VALUE=DATE:20220621
DTEND;VALUE=DATE:20220622
DTSTAMP;VALUE=DATE-TIME:20260421T174829Z
UID:040000008200E00074C5B7101A82E00800000000B002E69E9563D70100000000000000
 0010000000EA057CEA24C2714DB99F6A658D006F3C
CREATED;VALUE=DATE-TIME:20210701T072604Z
LAST-MODIFIED;VALUE=DATE-TIME:20210701T072911Z
URL:https://www.sek-pratteln.ch/events/oeffentlich/besuchstag-2
END:VEVENT
END:VCALENDAR
