BEGIN:VCALENDAR
VERSION:2.0
PRODID:-//Plone.org//NONSGML plone.app.event//EN
X-WR-TIMEZONE:Europe/Zurich
BEGIN:VEVENT
SUMMARY:Besuchstag - abgesagt
DTSTART;VALUE=DATE:20210622
DTEND;VALUE=DATE:20210623
DTSTAMP;VALUE=DATE-TIME:20260421T110531Z
UID:040000008200E00074C5B7101A82E00800000000002EBB4A8B45D60100000000000000
 0010000000401289DA4A30824A82167D2BEBA8BA8D
CREATED;VALUE=DATE-TIME:20200706T062907Z
DESCRIPTION:None
LAST-MODIFIED;VALUE=DATE-TIME:20210615T080736Z
URL:https://www.sek-pratteln.ch/events/oeffentlich/besuchstag-1
END:VEVENT
END:VCALENDAR
