BEGIN:VCALENDAR
VERSION:2.0
PRODID:-//Plone.org//NONSGML plone.app.event//EN
X-WR-TIMEZONE:Europe/Zurich
BEGIN:VEVENT
SUMMARY:Besuch 6 PS
DTSTART;TZID=Europe/Zurich;VALUE=DATE-TIME:20171023T093000
DTEND;TZID=Europe/Zurich;VALUE=DATE-TIME:20171023T110000
DTSTAMP;VALUE=DATE-TIME:20260421T110335Z
UID:040000008200E00074C5B7101A82E00800000000C02FB282EBE8D20100000000000000
 00100000001BB4B7A6451EB24C94F6B9D0FF288172
CREATED;VALUE=DATE-TIME:20170623T094909Z
DESCRIPTION:None
LAST-MODIFIED;VALUE=DATE-TIME:20200706T064350Z
LOCATION:grosse Aula\, B-Trakt
URL:https://www.sek-pratteln.ch/events/oeffentlich/besuch-6-ps
END:VEVENT
BEGIN:VTIMEZONE
TZID:Europe/Zurich
X-LIC-LOCATION:Europe/Zurich
BEGIN:DAYLIGHT
DTSTART;VALUE=DATE-TIME:20170326T030000
TZNAME:CEST
TZOFFSETFROM:+0100
TZOFFSETTO:+0200
END:DAYLIGHT
END:VTIMEZONE
END:VCALENDAR
