BEGIN:VCALENDAR
VERSION:2.0
PRODID:-//Plone.org//NONSGML plone.app.event//EN
X-WR-TIMEZONE:Europe/Zurich
BEGIN:VEVENT
SUMMARY:Berufsschau 21.-25.10.
DTSTART;VALUE=DATE:20151021
DTEND;VALUE=DATE:20151026
DTSTAMP;VALUE=DATE-TIME:20260421T110547Z
UID:040000008200E00074C5B7101A82E008000000001046EF252E8FD00100000000000000
 00100000006EFD6AF402968C4181E38236946C4A2B
CREATED;VALUE=DATE-TIME:20150710T073749Z
DESCRIPTION:\n\n
LAST-MODIFIED;VALUE=DATE-TIME:20200706T064341Z
LOCATION:Pratteln
URL:https://www.sek-pratteln.ch/events/oeffentlich/berufsschau-21-25-10
END:VEVENT
END:VCALENDAR
