BEGIN:VCALENDAR
VERSION:2.0
PRODID:-//Plone.org//NONSGML plone.app.event//EN
X-WR-TIMEZONE:Europe/Zurich
BEGIN:VEVENT
SUMMARY:Begrüssung (1. Sek 0820\; 2. Sek 0930\; 3. Sek 1130)
DTSTART;TZID=Europe/Zurich;VALUE=DATE-TIME:20180813T080000
DTEND;TZID=Europe/Zurich;VALUE=DATE-TIME:20180813T120000
DTSTAMP;VALUE=DATE-TIME:20260421T111308Z
UID:040000008200E00074C5B7101A82E008000000009063B07ACC07D40100000000000000
 0010000000D94D6E40E9953347A1EDC0360AB88BCB
CREATED;VALUE=DATE-TIME:20180629T060612Z
DESCRIPTION:\n\n
LAST-MODIFIED;VALUE=DATE-TIME:20200706T064355Z
LOCATION:grosse Aula\, B-Trakt
URL:https://www.sek-pratteln.ch/events/oeffentlich/begruessung-1-sek-0820-
 2-sek-0930-3-sek-1130
END:VEVENT
BEGIN:VTIMEZONE
TZID:Europe/Zurich
X-LIC-LOCATION:Europe/Zurich
BEGIN:DAYLIGHT
DTSTART;VALUE=DATE-TIME:20180325T030000
TZNAME:CEST
TZOFFSETFROM:+0100
TZOFFSETTO:+0200
END:DAYLIGHT
END:VTIMEZONE
END:VCALENDAR
