BEGIN:VCALENDAR
VERSION:2.0
PRODID:-//Plone.org//NONSGML plone.app.event//EN
X-WR-TIMEZONE:Europe/Zurich
BEGIN:VEVENT
SUMMARY:Begrüssung 1. Klassen
DTSTART;TZID=Europe/Zurich;VALUE=DATE-TIME:20160815T082000
DTEND;TZID=Europe/Zurich;VALUE=DATE-TIME:20160815T090000
DTSTAMP;VALUE=DATE-TIME:20260421T110924Z
UID:040000008200E00074C5B7101A82E00800000000206925034FD1D10100000000000000
 00100000008CDB9CDFE2F2174B9E706A28A742E927
CREATED;VALUE=DATE-TIME:20160712T121546Z
LAST-MODIFIED;VALUE=DATE-TIME:20200706T064346Z
LOCATION:grosse Aula\, B-Trakt
URL:https://www.sek-pratteln.ch/events/oeffentlich/begruessung-1-klassen
END:VEVENT
BEGIN:VTIMEZONE
TZID:Europe/Zurich
X-LIC-LOCATION:Europe/Zurich
BEGIN:DAYLIGHT
DTSTART;VALUE=DATE-TIME:20160327T030000
TZNAME:CEST
TZOFFSETFROM:+0100
TZOFFSETTO:+0200
END:DAYLIGHT
END:VTIMEZONE
END:VCALENDAR
