BEGIN:VCALENDAR
VERSION:2.0
PRODID:-//Plone.org//NONSGML plone.app.event//EN
X-WR-TIMEZONE:Europe/Zurich
BEGIN:VEVENT
SUMMARY:Beginn 2. Semester
DTSTART;VALUE=DATE:20230123
DTEND;VALUE=DATE:20230124
DTSTAMP;VALUE=DATE-TIME:20260421T110530Z
UID:040000008200E00074C5B7101A82E00800000000F010406F3383D80100000000000000
 001000000037FBEE8554B63C4D84B23E762EAD51C5
CREATED;VALUE=DATE-TIME:20220627T163417Z
DESCRIPTION: \n
LAST-MODIFIED;VALUE=DATE-TIME:20220627T165927Z
URL:https://www.sek-pratteln.ch/events/oeffentlich/beginn-2-semester-2
END:VEVENT
END:VCALENDAR
