BEGIN:VCALENDAR
VERSION:2.0
PRODID:-//Plone.org//NONSGML plone.app.event//EN
X-WR-TIMEZONE:Europe/Zurich
BEGIN:VEVENT
SUMMARY:Beginn 2. Semester
DTSTART;VALUE=DATE:20220124
DTEND;VALUE=DATE:20220125
DTSTAMP;VALUE=DATE-TIME:20260419T151721Z
UID:040000008200E00074C5B7101A82E00800000000C0ECF688A063D70100000000000000
 0010000000342D331F10662542BCC174348508D3C4
CREATED;VALUE=DATE-TIME:20210701T072620Z
LAST-MODIFIED;VALUE=DATE-TIME:20210701T072816Z
URL:https://www.sek-pratteln.ch/events/oeffentlich/beginn-2-semester-1
END:VEVENT
END:VCALENDAR
