BEGIN:VCALENDAR
VERSION:2.0
PRODID:-//Plone.org//NONSGML plone.app.event//EN
X-WR-TIMEZONE:Europe/Zurich
BEGIN:VEVENT
SUMMARY:Basler Stadtlauf
DTSTART;VALUE=DATE:20181124
DTEND;VALUE=DATE:20181125
DTSTAMP;VALUE=DATE-TIME:20260420T152959Z
UID:040000008200E00074C5B7101A82E00800000000F0DEC639D507D40100000000000000
 0010000000659160CBF9901C41950307BE81C124E8
CREATED;VALUE=DATE-TIME:20180629T060556Z
DESCRIPTION:\n\n
LAST-MODIFIED;VALUE=DATE-TIME:20200706T064354Z
URL:https://www.sek-pratteln.ch/events/oeffentlich/basler-stadtlauf
END:VEVENT
END:VCALENDAR
