BEGIN:VCALENDAR
VERSION:2.0
PRODID:-//Plone.org//NONSGML plone.app.event//EN
X-WR-TIMEZONE:Europe/Zurich
BEGIN:VEVENT
SUMMARY:Basler Stadtlauf
DTSTART;VALUE=DATE:20221119
DTEND;VALUE=DATE:20221120
DTSTAMP;VALUE=DATE-TIME:20260421T110612Z
UID:040000008200E00074C5B7101A82E00800000000707F20912E83D80100000000000000
 001000000003CA57598935774F80011ABF9DD07AD7
CREATED;VALUE=DATE-TIME:20220627T163410Z
DESCRIPTION: \n
LAST-MODIFIED;VALUE=DATE-TIME:20220627T165940Z
URL:https://www.sek-pratteln.ch/events/oeffentlich/basler-stadtlauf-4
END:VEVENT
END:VCALENDAR
