BEGIN:VCALENDAR
VERSION:2.0
PRODID:-//Plone.org//NONSGML plone.app.event//EN
X-WR-TIMEZONE:Europe/Zurich
BEGIN:VEVENT
SUMMARY:Basler Stadtlauf
DTSTART;VALUE=DATE:20211120
DTEND;VALUE=DATE:20211121
DTSTAMP;VALUE=DATE-TIME:20260421T104849Z
UID:040000008200E00074C5B7101A82E00800000000E04D27129D63D70100000000000000
 00100000003C749636EC7BAF4987C9D6DCA6189FD2
CREATED;VALUE=DATE-TIME:20210701T072614Z
LAST-MODIFIED;VALUE=DATE-TIME:20210701T072815Z
URL:https://www.sek-pratteln.ch/events/oeffentlich/basler-stadtlauf-3
END:VEVENT
END:VCALENDAR
