BEGIN:VCALENDAR
VERSION:2.0
PRODID:-//Plone.org//NONSGML plone.app.event//EN
X-WR-TIMEZONE:Europe/Zurich
BEGIN:VEVENT
SUMMARY:Basler Stadtlauf
DTSTART;VALUE=DATE:20191130
DTEND;VALUE=DATE:20191201
DTSTAMP;VALUE=DATE-TIME:20260421T110703Z
UID:040000008200E00074C5B7101A82E00800000000E04B51377F31D50100000000000000
 0010000000BFC3C0F11BBB6B49B51D21E7FC5C5EE3
CREATED;VALUE=DATE-TIME:20190708T101904Z
DESCRIPTION:\n\n
LAST-MODIFIED;VALUE=DATE-TIME:20200706T064400Z
URL:https://www.sek-pratteln.ch/events/oeffentlich/basler-stadtlauf-1
END:VEVENT
END:VCALENDAR
