BEGIN:VCALENDAR
VERSION:2.0
PRODID:-//Plone.org//NONSGML plone.app.event//EN
X-WR-TIMEZONE:Europe/Zurich
BEGIN:VEVENT
SUMMARY:Austausch PS/SEK: 1. Sek und ehem. 6. PS
DTSTART;TZID=Europe/Zurich;VALUE=DATE-TIME:20240319T164500
DTEND;TZID=Europe/Zurich;VALUE=DATE-TIME:20240319T181500
DTSTAMP;VALUE=DATE-TIME:20260421T111113Z
UID:040000008200E00074C5B7101A82E00800000000F0AF23CA47A4D90100000000000000
 0010000000CF93E01F7C4ECD42ACD0F02B1464CB58
CREATED;VALUE=DATE-TIME:20230626T125540Z
LAST-MODIFIED;VALUE=DATE-TIME:20230626T125939Z
LOCATION:grosse Aula B
URL:https://www.sek-pratteln.ch/events/oeffentlich/austausch-ps-sek-1-sek-
 und-ehem-6-ps
END:VEVENT
BEGIN:VTIMEZONE
TZID:Europe/Zurich
X-LIC-LOCATION:Europe/Zurich
BEGIN:STANDARD
DTSTART;VALUE=DATE-TIME:20231029T020000
TZNAME:CET
TZOFFSETFROM:+0200
TZOFFSETTO:+0100
END:STANDARD
END:VTIMEZONE
END:VCALENDAR
