BEGIN:VCALENDAR
VERSION:2.0
PRODID:-//Plone.org//NONSGML plone.app.event//EN
X-WR-TIMEZONE:Europe/Zurich
BEGIN:VEVENT
SUMMARY:Ausstellung Projektarbeiten 17:00h
DTSTART;TZID=Europe/Zurich;VALUE=DATE-TIME:20250618T170000
DTEND;TZID=Europe/Zurich;VALUE=DATE-TIME:20250618T180000
DTSTAMP;VALUE=DATE-TIME:20260421T111158Z
UID:040000008200E00074C5B7101A82E0080000000010E22C4D45C2DA0100000000000000
 0010000000B00A548F332A1247B402D2F219000A2E
CREATED;VALUE=DATE-TIME:20240627T145047Z
LAST-MODIFIED;VALUE=DATE-TIME:20240627T145631Z
LOCATION:grosse Aula-B\, kleine Aula-Q u.a.
URL:https://www.sek-pratteln.ch/events/oeffentlich/ausstellung-projektarbe
 iten-17-00h
END:VEVENT
BEGIN:VTIMEZONE
TZID:Europe/Zurich
X-LIC-LOCATION:Europe/Zurich
BEGIN:DAYLIGHT
DTSTART;VALUE=DATE-TIME:20250330T030000
TZNAME:CEST
TZOFFSETFROM:+0100
TZOFFSETTO:+0200
END:DAYLIGHT
END:VTIMEZONE
END:VCALENDAR
